BEGIN:VCALENDAR
VERSION:2.0
PRODID:-//https://www.daiquirideckannamaria.cdmsrq.info///NONSGML kigkonsult.se iCalcreator 2.10.15//
METHOD:PUBLISH
BEGIN:VEVENT
UID:20260423T045918UTC-02025LU0ul@https://www.daiquirideckannamaria.cdmsrq.
 info/
DTSTAMP:20260423T045918Z
DESCRIPTION: https://www.daiquirideckannamaria.cdmsrq.info/component/rseven
 tspro/event/4179-3p-tim-mccaig?Itemid=101
DTSTART;VALUE=DATE:20260530
LOCATION:Daiquiri Deck Bradenton Beach (107 Bridge St\, Bradenton Beach\, F
 L 34217)
SUMMARY:3p Tim McCaig
URL:https://www.daiquirideckannamaria.cdmsrq.info/component/rseventspro/eve
 nt/4179-3p-tim-mccaig?Itemid=101
END:VEVENT
END:VCALENDAR
