BEGIN:VCALENDAR
VERSION:2.0
PRODID:-//https://www.daiquirideckannamaria.cdmsrq.info///NONSGML kigkonsult.se iCalcreator 2.10.15//
METHOD:PUBLISH
BEGIN:VEVENT
UID:20260422T140009UTC-22826iSUCh@https://www.daiquirideckannamaria.cdmsrq.
 info/
DTSTAMP:20260422T140009Z
DESCRIPTION: https://www.daiquirideckannamaria.cdmsrq.info/component/rseven
 tspro/event/4121-6p-ken-apperson?Itemid=101
DTSTART;VALUE=DATE:20260520
LOCATION:Daiquiri Deck Bradenton Beach (107 Bridge St\, Bradenton Beach\, F
 L 34217)
SUMMARY:6p Ken Apperson
URL:https://www.daiquirideckannamaria.cdmsrq.info/component/rseventspro/eve
 nt/4121-6p-ken-apperson?Itemid=101
END:VEVENT
END:VCALENDAR
