BEGIN:VCALENDAR
VERSION:2.0
PRODID:-//https://www.daiquirideckannamaria.cdmsrq.info///NONSGML kigkonsult.se iCalcreator 2.10.15//
METHOD:PUBLISH
BEGIN:VEVENT
UID:20260423T002123UTC-3889UZrAUk@https://www.daiquirideckannamaria.cdmsrq.
 info/
DTSTAMP:20260423T002123Z
DESCRIPTION: https://www.daiquirideckannamaria.cdmsrq.info/component/rseven
 tspro/event/4093-3p-florida-keys-piano-show?Itemid=101
DTSTART;VALUE=DATE:20260524
LOCATION:Daiquiri Deck St. Armands Circle (325 John Ringling Blvd\, Sarasot
 a\, FL 34236)
SUMMARY:3p Florida Keys Piano Show
URL:https://www.daiquirideckannamaria.cdmsrq.info/component/rseventspro/eve
 nt/4093-3p-florida-keys-piano-show?Itemid=101
END:VEVENT
END:VCALENDAR
