BEGIN:VCALENDAR
VERSION:2.0
PRODID:-//https://www.daiquirideckannamaria.cdmsrq.info///NONSGML kigkonsult.se iCalcreator 2.10.15//
METHOD:PUBLISH
BEGIN:VEVENT
UID:20260422T200539UTC-2318bPUaei@https://www.daiquirideckannamaria.cdmsrq.
 info/
DTSTAMP:20260422T200539Z
DESCRIPTION: https://www.daiquirideckannamaria.cdmsrq.info/component/rseven
 tspro/event/4088-12p-bain-beakley?Itemid=101
DTSTART;VALUE=DATE:20260521
LOCATION:Daiquiri Deck St. Armands Circle (325 John Ringling Blvd\, Sarasot
 a\, FL 34236)
SUMMARY:12p Bain Beakley
URL:https://www.daiquirideckannamaria.cdmsrq.info/component/rseventspro/eve
 nt/4088-12p-bain-beakley?Itemid=101
END:VEVENT
END:VCALENDAR
