BEGIN:VCALENDAR
VERSION:2.0
PRODID:-//https://www.daiquirideckannamaria.cdmsrq.info///NONSGML kigkonsult.se iCalcreator 2.10.15//
METHOD:PUBLISH
BEGIN:VEVENT
UID:20260423T103706UTC-4554nF0D1d@https://www.daiquirideckannamaria.cdmsrq.
 info/
DTSTAMP:20260423T103706Z
DESCRIPTION: https://www.daiquirideckannamaria.cdmsrq.info/component/rseven
 tspro/event/4058-4p-gulf-coastin-life?Itemid=101
DTSTART;VALUE=DATE:20260528
LOCATION:Daiquiri Deck South Siesta Key (1250 Stickney Point Rd\, Siesta Ke
 y\, FL 34242)
SUMMARY:4p Gulf Coastin.Life
URL:https://www.daiquirideckannamaria.cdmsrq.info/component/rseventspro/eve
 nt/4058-4p-gulf-coastin-life?Itemid=101
END:VEVENT
END:VCALENDAR
