BEGIN:VCALENDAR
VERSION:2.0
PRODID:-//https://www.daiquirideckannamaria.cdmsrq.info///NONSGML kigkonsult.se iCalcreator 2.10.15//
METHOD:PUBLISH
BEGIN:VEVENT
UID:20260422T225242UTC-2426wchd35@https://www.daiquirideckannamaria.cdmsrq.
 info/
DTSTAMP:20260422T225242Z
DESCRIPTION: https://www.daiquirideckannamaria.cdmsrq.info/component/rseven
 tspro/event/4019-3p-sarah-santiago?Itemid=101
DTSTART;VALUE=DATE:20260526
LOCATION:Daiquiri Deck Siesta Key Village (5250 Ocean Blvd\, Sarasota\, FL 
 34242)
SUMMARY:3p Sarah Santiago  
URL:https://www.daiquirideckannamaria.cdmsrq.info/component/rseventspro/eve
 nt/4019-3p-sarah-santiago?Itemid=101
END:VEVENT
END:VCALENDAR
